BEGIN:VCALENDAR
METHOD:PUBLISH
PRODID:Data::ICal 0.13
VERSION:2.0
BEGIN:VEVENT
DESCRIPTION:Make a fast break to the 2023 Indiana State Fair as we celebrate The State That Grew the Game of Basketball, presented by Pacers Sports &amp; Entertainment. \n\nBring your starting lineup for fun that’s as memorable as a buzzer-beater! \n\nStep into &#039;The Gym&#039; at the Indiana State Fair and experience the ultimate basketball exhibit! \n\nExplore the history of Indiana basketball, see iconic memorabilia and activations from the Pacers, Fever, and Hoosiers movie, shoot hoops on a half-court, and get a selfie with the world&#039;s largest bouncing basketball. \n\nFun for all ages!\n\nGet your tickets Here!
DTSTAMP:20260422T014909Z
DTSTART;TZID=America/New_York:20230728T000000
DTEND;TZID=America/New_York:20230820T235900
LOCATION:
SUMMARY:Indiana State Fair &#8211; The State That Grew Basketball
UID:3178775-1690502400-1692575940
END:VEVENT
END:VCALENDAR
