BEGIN:VCALENDAR
METHOD:PUBLISH
PRODID:Data::ICal 0.13
VERSION:2.0
BEGIN:VEVENT
DESCRIPTION:New Horizons Church PresentsSeven Sayings of Christ from the Cross



Join us this Good Friday for one of Indianapolis’ most powerful and anticipated faith experiences.Each year, Praise Indy partners with New Horizons Church and seven dynamic pastors from across the city to present The Seven Sayings of Christ from the Cross a moving live service reflecting on the final words of Jesus.Hosted by Pastor Eric L. Wiggins, this impactful evening brings together influential voices including:Kim Outlaw - Jeffrey Brown - Michael Bryant - David Page - R. Janae Pitts Murdock - Dr. Myron F. Duff Jr. - Jeffrey A. Johnson Sr.This annual production continues to grow, drawing over 1,000 attendees in person with additional guests in overflow seating, while thousands more tune in via live broadcast and social media. 



Attend In Person or Watch Live



Friday, April 3rd, 2026 – 7pm/Doors 5:30pm –&nbsp;In person at New Horizons Church&nbsp; 



Experience the service live inside New Horizons Church or join from anywhere through our digital broadcast. 



If you are unable to attend in person, you can watch the service live or catch the replay afterward. 



📺 WATCH BELOW Or On Facebook -&gt; https://www.facebook.com/events/754485474266248 




https://www.youtube.com/watch?v=jzr7rTUhWCc
DTSTAMP:20260420T004640Z
DTSTART;TZID=America/New_York:20260403T053000
DTEND;TZID=America/New_York:20260403T230000
LOCATION:7315 E 75th Street\, Indianapolis\, IN 46256
SUMMARY:New Horizons Church Presents: Seven Sayings of Christ from the Cross
UID:4138042-1775194200-1775257200
END:VEVENT
END:VCALENDAR
